BEGIN:VCALENDAR
VERSION:2.0
PRODID:-//wp-events-plugin.com//7.2.3.1//EN
TZID:Europe/Bucharest
X-WR-TIMEZONE:Europe/Bucharest
BEGIN:VEVENT
UID:1469@radiotimisoara.ro
DTSTART;TZID=Europe/Bucharest:20260312T180000
DTEND;TZID=Europe/Bucharest:20260312T180000
DTSTAMP:20260310T175626Z
URL:https://www.radiotimisoara.ro/agenda-evenimente/anne-applebaum-laureat
 a-a-premiului-pulitzer-invitata-la-timisoara-pentru-un-dialog-despre-democ
 ratie
SUMMARY:Anne Applebaum\, laureată a Premiului Pulitzer\, invitată la Timi
 șoara pentru un dialog despre democrație
DESCRIPTION:Jurnalista și istoricul Anne Applebaum\, laureată a Premiului
  Pulitzer și una dintre cele mai importante voci ale analizei politice co
 ntemporane\, va participa la dialogul „Why Democracies Turn Against Them
 selves” joi\, 12 martie 2026\, în Aula Magna a Universității de Vest.
ATTACH;FMTTYPE=image/jpeg:https://www.radiotimisoara.ro/wp-content/uploads
 /2026/03/conferinta-uvt-anne-applebaum.jpg
CATEGORIES:_ AZI sau VIITOR,-Acces liber,Alte evenimente culturale,
 spiritualitate,Cultură
LOCATION:Universitatea de Vest Timişoara\, Bulevardul Vasile Pârvan Nr. 4
 \, Timişoara\, Timiş\, România
GEO:45.747774;21.230122
X-APPLE-STRUCTURED-LOCATION;VALUE=URI;X-ADDRESS=Bulevardul Vasile Pârvan N
 r. 4\, Timişoara\, Timiş\, România;X-APPLE-RADIUS=100;X-TITLE=Universit
 atea de Vest Timişoara:geo:45.747774,21.230122
END:VEVENT
BEGIN:VTIMEZONE
TZID:Europe/Bucharest
X-LIC-LOCATION:Europe/Bucharest
BEGIN:STANDARD
DTSTART:20251026T030000
TZOFFSETFROM:+0300
TZOFFSETTO:+0200
TZNAME:EET
END:STANDARD
END:VTIMEZONE
END:VCALENDAR