BEGIN:VCALENDAR
VERSION:2.0
PRODID:-//wp-events-plugin.com//7.2.3.1//EN
TZID:Europe/Bucharest
X-WR-TIMEZONE:Europe/Bucharest
BEGIN:VEVENT
UID:41@radiotimisoara.ro
DTSTART;TZID=Europe/Bucharest:20240123T180000
DTEND;TZID=Europe/Bucharest:20240123T180000
DTSTAMP:20240119T134746Z
URL:https://www.radiotimisoara.ro/agenda-evenimente/artistul-liviu-mocan-d
 aruieste-muzeului-national-de-arta-timisoara-o-sculptura
SUMMARY:Artistul Liviu Mocan dăruiește Muzeului Național de Artă Timiș
 oara o sculptură
DESCRIPTION:Este vorba despre lucrarea monumentală tridimensională „Pă
 tratul\, cercul și scara”\, realizată de artist în 2014. 
ATTACH;FMTTYPE=image/jpeg:https://www.radiotimisoara.ro/wp-content/uploads
 /2024/01/muzeu-ev.jpeg
CATEGORIES:_ AZI sau VIITOR,-Acces liber,Cultură,Expoziție
LOCATION:Muzeul Național de Artă Timișoara\, Muzeul Național de Artă T
 imișoara\, Timișoara\, 300115\, România
GEO:45.757419;21.229293
X-APPLE-STRUCTURED-LOCATION;VALUE=URI;X-ADDRESS=Muzeul Național de Artă T
 imișoara\, Timișoara\, 300115\, România;X-APPLE-RADIUS=100;X-TITLE=Muze
 ul Național de Artă Timișoara:geo:45.757419,21.229293
END:VEVENT
BEGIN:VTIMEZONE
TZID:Europe/Bucharest
X-LIC-LOCATION:Europe/Bucharest
BEGIN:STANDARD
DTSTART:20231029T030000
TZOFFSETFROM:+0300
TZOFFSETTO:+0200
TZNAME:EET
END:STANDARD
END:VTIMEZONE
END:VCALENDAR