BEGIN:VCALENDAR
VERSION:2.0
PRODID:-//wp-events-plugin.com//7.2.3.1//EN
TZID:Europe/Bucharest
X-WR-TIMEZONE:Europe/Bucharest
BEGIN:VEVENT
UID:434@radiotimisoara.ro
DTSTART;TZID=Europe/Bucharest:20240914T170000
DTEND;TZID=Europe/Bucharest:20240914T170000
DTSTAMP:20240914T094153Z
URL:https://www.radiotimisoara.ro/agenda-evenimente/atelier-de-actorie-lan
 ga-podul-de-poveste-din-timisoara
SUMMARY:Atelier de actorie lângă Podul de Poveste din Timișoara
DESCRIPTION:Atelierul este susținut de actrița Teatrului Național din Ti
 mișoara\, Ana Maria Pandele Andone.
ATTACH;FMTTYPE=image/jpeg:https://www.radiotimisoara.ro/wp-content/uploads
 /2024/09/fluid.png
CATEGORIES:_ AZI sau VIITOR,-Acces liber,Alte evenimente culturale,
 spiritualitate,Cultură
LOCATION:Digital Canvas\, Str. Peneș Curcanul nr. 4\, Timișoara\, Timiș\
 , România
GEO:45.761518;21.251902
X-APPLE-STRUCTURED-LOCATION;VALUE=URI;X-ADDRESS=Str. Peneș Curcanul nr. 4\
 , Timișoara\, Timiș\, România;X-APPLE-RADIUS=100;X-TITLE=Digital Canvas
 :geo:45.761518,21.251902
END:VEVENT
BEGIN:VTIMEZONE
TZID:Europe/Bucharest
X-LIC-LOCATION:Europe/Bucharest
BEGIN:DAYLIGHT
DTSTART:20240331T040000
TZOFFSETFROM:+0200
TZOFFSETTO:+0300
TZNAME:EEST
END:DAYLIGHT
END:VTIMEZONE
END:VCALENDAR