BEGIN:VCALENDAR
VERSION:2.0
PRODID:-//wp-events-plugin.com//7.2.3.1//EN
TZID:Europe/Bucharest
X-WR-TIMEZONE:Europe/Bucharest
BEGIN:VEVENT
UID:1463@radiotimisoara.ro
DTSTART;TZID=Europe/Bucharest:20260516T100000
DTEND;TZID=Europe/Bucharest:20260516T100000
DTSTAMP:20260309T072147Z
URL:https://www.radiotimisoara.ro/agenda-evenimente/atelierul-de-gust-din-
 voiteg-da-startul-sezonului-de-inghetata-cu-activitati-pentru-copii
SUMMARY:Atelierul de Gust din Voiteg dă startul sezonului de înghețată 
 cu activități pentru copii
DESCRIPTION:Atelierul de Gust din comuna timișeană Voiteg deschide\, în 
 weekendul 6–8 martie\, sezonul de înghețată artizanală printr-un eve
 niment dedicat familiilor și copiilor. 
ATTACH;FMTTYPE=image/jpeg:https://www.radiotimisoara.ro/wp-content/uploads
 /2026/03/inghetata-voiteg.jpeg
CATEGORIES:_ AZI sau VIITOR,-Eveniment pentru copii,Pop-rock,
 Divertisment, Dans, Agrement/Turism
LOCATION:Atelierul de gust\, Voiteg nr. 97\, Voiteg\, Timiș\, România
GEO:45.469255;21.237318
X-APPLE-STRUCTURED-LOCATION;VALUE=URI;X-ADDRESS=Voiteg nr. 97\, Voiteg\, Ti
 miș\, România;X-APPLE-RADIUS=100;X-TITLE=Atelierul de gust:geo:45.469255
 ,21.237318
END:VEVENT
BEGIN:VTIMEZONE
TZID:Europe/Bucharest
X-LIC-LOCATION:Europe/Bucharest
BEGIN:DAYLIGHT
DTSTART:20260329T040000
TZOFFSETFROM:+0200
TZOFFSETTO:+0300
TZNAME:EEST
END:DAYLIGHT
END:VTIMEZONE
END:VCALENDAR