BEGIN:VCALENDAR
VERSION:2.0
PRODID:-//wp-events-plugin.com//7.2.3.1//EN
TZID:Europe/Bucharest
X-WR-TIMEZONE:Europe/Bucharest
BEGIN:VEVENT
UID:913@radiotimisoara.ro
DTSTART;TZID=Europe/Bucharest:20250530T170000
DTEND;TZID=Europe/Bucharest:20250713T170000
DTSTAMP:20250529T124526Z
URL:https://www.radiotimisoara.ro/agenda-evenimente/bienala-art-encounters
 -2025-la-timisoara-program
SUMMARY:Bienala Art Encounters 2025 la Timișoara / PROGRAM
DESCRIPTION:Sub tema „Bounding Histories. Whispering Tales”\, curatorii
  Ana Janevski (MoMA New York) și Tevž Logar (curator independent) ne inv
 ită să reflectăm asupra trecutului complex al orașului și să descope
 rim poveștile ascunse ale unor locații emblematice: Comenduirea Garnizoa
 nei\, FABER și sediul Fundației Art Encounters.
ATTACH;FMTTYPE=image/jpeg:https://www.radiotimisoara.ro/wp-content/uploads
 /2025/05/art-encounters-2025-1.jpg
CATEGORIES:_ AZI sau VIITOR,Cultură,Expoziție
END:VEVENT
BEGIN:VTIMEZONE
TZID:Europe/Bucharest
X-LIC-LOCATION:Europe/Bucharest
BEGIN:DAYLIGHT
DTSTART:20250330T040000
TZOFFSETFROM:+0200
TZOFFSETTO:+0300
TZNAME:EEST
END:DAYLIGHT
END:VTIMEZONE
END:VCALENDAR