BEGIN:VCALENDAR
VERSION:2.0
PRODID:-//wp-events-plugin.com//7.2.3.1//EN
TZID:Europe/Bucharest
X-WR-TIMEZONE:Europe/Bucharest
BEGIN:VEVENT
UID:552@radiotimisoara.ro
DTSTART;TZID=Europe/Bucharest:20241107T120000
DTEND;TZID=Europe/Bucharest:20250126T180000
DTSTAMP:20241112T075551Z
URL:https://www.radiotimisoara.ro/agenda-evenimente/bloom-expozitie-sorin-
 scurtulescu-la-meta-spatiu
SUMMARY:“Bloom”. Expoziție Sorin Scurtulescu la META Spațiu
DESCRIPTION:În lucrările sale\, artistul surprinde florile într-un momen
 t de imobilitate meditativă\, invitând privitorul să exploreze geometri
 a fragilă a acestora și prezența copleșitoare a texturii.
ATTACH;FMTTYPE=image/jpeg:https://www.radiotimisoara.ro/wp-content/uploads
 /2024/11/bloom-expozitie.jpg
CATEGORIES:_ AZI sau VIITOR,_ÎN DESFĂȘURARE,-Acces
 liber,Cultură,Expoziție
LOCATION:META Spațiu MV\, Bulevardul Mihai Viteazu nr. 1\, Timișoara\, Ti
 miș\, România
GEO:45.746174;21.225974
X-APPLE-STRUCTURED-LOCATION;VALUE=URI;X-ADDRESS=Bulevardul Mihai Viteazu nr
 . 1\, Timișoara\, Timiș\, România;X-APPLE-RADIUS=100;X-TITLE=META Spaț
 iu MV:geo:45.746174,21.225974
END:VEVENT
BEGIN:VTIMEZONE
TZID:Europe/Bucharest
X-LIC-LOCATION:Europe/Bucharest
BEGIN:STANDARD
DTSTART:20241027T030000
TZOFFSETFROM:+0300
TZOFFSETTO:+0200
TZNAME:EET
END:STANDARD
END:VTIMEZONE
END:VCALENDAR