BEGIN:VCALENDAR
VERSION:2.0
PRODID:-//wp-events-plugin.com//7.2.3.1//EN
TZID:Europe/Bucharest
X-WR-TIMEZONE:Europe/Bucharest
BEGIN:VEVENT
UID:1375@radiotimisoara.ro
DTSTART;TZID=Europe/Bucharest:20260209T200000
DTEND;TZID=Europe/Bucharest:20260209T200000
DTSTAMP:20260113T082617Z
URL:https://www.radiotimisoara.ro/agenda-evenimente/comedie-din-greseala
SUMMARY:”Comedie din greșeală” cu Medeea Marinescu\,  Alexandru Papa
 dopol și alții
DESCRIPTION:Povestea unui grup de actori care trebuie să scoată o premier
 ă \, dar nu au text. Printre actori : Medeea Marinescu\,  Alexandru Papa
 dopol
ATTACH;FMTTYPE=image/jpeg:https://www.radiotimisoara.ro/wp-content/uploads
 /2026/01/Comedie-din-greseala-3.jpg
CATEGORIES:Teatru
LOCATION:Opera Naţională Română\, Piața Victoriei (Operei)\, Timişoar
 a\, România
GEO:45.754059;21.225857
X-APPLE-STRUCTURED-LOCATION;VALUE=URI;X-ADDRESS=Piața Victoriei (Operei)\,
  Timişoara\, România;X-APPLE-RADIUS=100;X-TITLE=Opera Naţională Român
 ă:geo:45.754059,21.225857
END:VEVENT
BEGIN:VTIMEZONE
TZID:Europe/Bucharest
X-LIC-LOCATION:Europe/Bucharest
BEGIN:STANDARD
DTSTART:20251026T030000
TZOFFSETFROM:+0300
TZOFFSETTO:+0200
TZNAME:EET
END:STANDARD
END:VTIMEZONE
END:VCALENDAR