BEGIN:VCALENDAR
VERSION:2.0
PRODID:-//wp-events-plugin.com//7.2.3.1//EN
TZID:Europe/Bucharest
X-WR-TIMEZONE:Europe/Bucharest
BEGIN:VEVENT
UID:1301@radiotimisoara.ro
DTSTART;TZID=Europe/Bucharest:20251211T190000
DTEND;TZID=Europe/Bucharest:20251211T190000
DTSTAMP:20251210T073939Z
URL:https://www.radiotimisoara.ro/agenda-evenimente/concert-de-colinde-tra
 ditionale-romanesti-imbucura-te-om-bun-pe-scena-teatrului-national
SUMMARY:Concert de colinde tradiționale românești ”Îmbucură-te\, om 
 bun!”\, pe scena Teatrului Național
DESCRIPTION:Concertul este susținut de membri Ligii Studenților din Timi
 șoara și face parte dintr-un turneu național care cuprinde 15 orașe di
 n țară. 
ATTACH;FMTTYPE=image/jpeg:https://www.radiotimisoara.ro/wp-content/uploads
 /2025/12/concert-colinde-timisoara-liga-studentilor.jpg
CATEGORIES:_ AZI sau VIITOR,-Acces liber,Cultură,Folclor / Muzică
 populară
LOCATION:Teatrul Naţional ”Mihai Eminescu”\, Str. Mărăşeşti Nr. 2\
 , Timişoara\, România
GEO:45.755069;21.225713
X-APPLE-STRUCTURED-LOCATION;VALUE=URI;X-ADDRESS=Str. Mărăşeşti Nr. 2\, 
 Timişoara\, România;X-APPLE-RADIUS=100;X-TITLE=Teatrul Naţional ”Miha
 i Eminescu”:geo:45.755069,21.225713
END:VEVENT
BEGIN:VTIMEZONE
TZID:Europe/Bucharest
X-LIC-LOCATION:Europe/Bucharest
BEGIN:STANDARD
DTSTART:20251026T030000
TZOFFSETFROM:+0300
TZOFFSETTO:+0200
TZNAME:EET
END:STANDARD
END:VTIMEZONE
END:VCALENDAR