BEGIN:VCALENDAR
VERSION:2.0
PRODID:-//wp-events-plugin.com//7.2.3.1//EN
TZID:Europe/Bucharest
X-WR-TIMEZONE:Europe/Bucharest
BEGIN:VEVENT
UID:995@radiotimisoara.ro
DTSTART;TZID=Europe/Bucharest:20250724T190000
DTEND;TZID=Europe/Bucharest:20250724T190000
DTSTAMP:20250723T115053Z
URL:https://www.radiotimisoara.ro/agenda-evenimente/concert-extraordinar-f
 uego-drag-de-timis-drag-de-romania-noastra
SUMMARY:Concert extraordinar Fuego - ”Drag de Timiș\, drag de România n
 oastră!”
DESCRIPTION:Participă orchestra și dansatorii Ansamblului Profesionist Ba
 natul. Concertul are loc cu ocazia Zilelor Județului Timiș.
ATTACH;FMTTYPE=image/jpeg:https://www.radiotimisoara.ro/wp-content/uploads
 /2025/07/fuego-la-timisoara.jpeg
CATEGORIES:_ AZI sau VIITOR,-Acces liber,Folclor / Muzică populară
LOCATION:Convention Center Timișoara\, Strada Mărășești nr. 1-3\, Timi
 șoara\, Timiș\, România
GEO:45.755109;21.225083
X-APPLE-STRUCTURED-LOCATION;VALUE=URI;X-ADDRESS=Strada Mărășești nr. 1-
 3\, Timișoara\, Timiș\, România;X-APPLE-RADIUS=100;X-TITLE=Convention C
 enter Timișoara:geo:45.755109,21.225083
END:VEVENT
BEGIN:VTIMEZONE
TZID:Europe/Bucharest
X-LIC-LOCATION:Europe/Bucharest
BEGIN:DAYLIGHT
DTSTART:20250330T040000
TZOFFSETFROM:+0200
TZOFFSETTO:+0300
TZNAME:EEST
END:DAYLIGHT
END:VTIMEZONE
END:VCALENDAR