BEGIN:VCALENDAR
VERSION:2.0
PRODID:-//wp-events-plugin.com//7.2.3.1//EN
TZID:Europe/Bucharest
X-WR-TIMEZONE:Europe/Bucharest
BEGIN:VEVENT
UID:1464@radiotimisoara.ro
DTSTART;TZID=Europe/Bucharest:20260326T190000
DTEND;TZID=Europe/Bucharest:20260326T190000
DTSTAMP:20260309T124129Z
URL:https://www.radiotimisoara.ro/agenda-evenimente/corul-madrigal-prezint
 a-spectacolul-saptamana-patimilor-la-timisoara
SUMMARY:Corul Madrigal prezintă Spectacolul „Săptămâna Patimilor” l
 a Timișoara
DESCRIPTION:Spectacolul de la Timișoara face parte din Turneul național d
 e Paște al Corului Național de Cameră „Madrigal - Marin Constantin”
  ce se desfășoară în perioada 26 martie - 9 aprilie 2026 în cinci ora
 șe din România.
ATTACH;FMTTYPE=image/jpeg:https://www.radiotimisoara.ro/wp-content/uploads
 /2026/03/Madrigal-Saptamana-Patimilor-landscape.jpg
CATEGORIES:_ AZI sau VIITOR,Alte evenimente culturale, spiritualitate
LOCATION:Sala ”Constantin Jude” (”Olimpia”)\, Aleea F.C. Ripensia N
 r. 7\, Timişoara\, Timiş\, România
GEO:45.746198;21.240677
X-APPLE-STRUCTURED-LOCATION;VALUE=URI;X-ADDRESS=Aleea F.C. Ripensia Nr. 7\,
  Timişoara\, Timiş\, România;X-APPLE-RADIUS=100;X-TITLE=Sala ”Constan
 tin Jude” (”Olimpia”):geo:45.746198,21.240677
END:VEVENT
BEGIN:VTIMEZONE
TZID:Europe/Bucharest
X-LIC-LOCATION:Europe/Bucharest
BEGIN:STANDARD
DTSTART:20251026T030000
TZOFFSETFROM:+0300
TZOFFSETTO:+0200
TZNAME:EET
END:STANDARD
END:VTIMEZONE
END:VCALENDAR