BEGIN:VCALENDAR
VERSION:2.0
PRODID:-//wp-events-plugin.com//7.2.3.1//EN
TZID:Europe/Bucharest
X-WR-TIMEZONE:Europe/Bucharest
BEGIN:VEVENT
UID:1383@radiotimisoara.ro
DTSTART;TZID=Europe/Bucharest:20260121T170000
DTEND;TZID=Europe/Bucharest:20260215T170000
DTSTAMP:20260121T101436Z
URL:https://www.radiotimisoara.ro/agenda-evenimente/culoare-contur-dialog-
 vizual-la-biblioteca-judeteana-din-arad
SUMMARY:Culoare & contur – dialog vizual la Biblioteca Județeană din Ar
 ad
DESCRIPTION:Expoziția „Culoare & contur” reunește la Artoteca Bibliot
 ecii Județene „A.D. Xenopol” din Arad lucrările artiștilor Dana și
  Ștefan Ziegler-Groza\, propunând publicului un dialog vizual între pic
 tură și desen\, între culoare și linie. 
ATTACH;FMTTYPE=image/jpeg:https://www.radiotimisoara.ro/wp-content/uploads
 /2026/01/contur-si-culoare.jpg
CATEGORIES:_ AZI sau VIITOR,-Acces liber,Expoziție
LOCATION:Biblioteca Județeană „Alexandru D. Xenopol” Arad\, str. Gh. 
 Popa de Teiuş\, nr.2 - 4 \, Arad\, Arad\, România
GEO:46.176779;21.315768
X-APPLE-STRUCTURED-LOCATION;VALUE=URI;X-ADDRESS=str. Gh. Popa de Teiuş\, n
 r.2 - 4 \, Arad\, Arad\, România;X-APPLE-RADIUS=100;X-TITLE=Biblioteca Ju
 dețeană „Alexandru D. Xenopol” Arad:geo:46.176779,21.315768
END:VEVENT
BEGIN:VTIMEZONE
TZID:Europe/Bucharest
X-LIC-LOCATION:Europe/Bucharest
BEGIN:STANDARD
DTSTART:20251026T030000
TZOFFSETFROM:+0300
TZOFFSETTO:+0200
TZNAME:EET
END:STANDARD
END:VTIMEZONE
END:VCALENDAR