BEGIN:VCALENDAR
VERSION:2.0
PRODID:-//wp-events-plugin.com//7.2.3.1//EN
TZID:Europe/Bucharest
X-WR-TIMEZONE:Europe/Bucharest
BEGIN:VEVENT
UID:1185@radiotimisoara.ro
DTSTART;TZID=Europe/Bucharest:20251029T170000
DTEND;TZID=Europe/Bucharest:20251031T170000
DTSTAMP:20251023T081114Z
URL:https://www.radiotimisoara.ro/agenda-evenimente/de-la-inteligenta-apei
 -din-cheile-nerei-la-o-insula-de-apa-vie
SUMMARY:De la inteligența apei din Cheile Nerei\, la o „Insulă de Apă 
 Vie”
DESCRIPTION:Evenimentul\, intitulat „Insula de Apă Vie: Unde Vacanța Î
 nvăță și Școala Se Joacă”\, propune o abordare inovatoare a învă
 țării și a timpului petrecut în familie\, inspirată de fluiditatea ș
 i sustenabilitatea apei.
ATTACH;FMTTYPE=image/jpeg:https://www.radiotimisoara.ro/wp-content/uploads
 /2025/10/insula-de-apa-vie.jpg
CATEGORIES:_ AZI sau VIITOR,-Acces liber,-Eveniment pentru copii,Alte
 evenimente culturale, spiritualitate
LOCATION:Asociaţia Minitremu\, Str. Coriolan Brediceanu nr. 2\, Timişoara
 \, Timiş\, România
GEO:45.756172;21.226788
X-APPLE-STRUCTURED-LOCATION;VALUE=URI;X-ADDRESS=Str. Coriolan Brediceanu nr
 . 2\, Timişoara\, Timiş\, România;X-APPLE-RADIUS=100;X-TITLE=Asociaţia
  Minitremu:geo:45.756172,21.226788
END:VEVENT
BEGIN:VTIMEZONE
TZID:Europe/Bucharest
X-LIC-LOCATION:Europe/Bucharest
BEGIN:STANDARD
DTSTART:20251026T030000
TZOFFSETFROM:+0300
TZOFFSETTO:+0200
TZNAME:EET
END:STANDARD
END:VTIMEZONE
END:VCALENDAR