BEGIN:VCALENDAR
VERSION:2.0
PRODID:-//wp-events-plugin.com//7.2.3.1//EN
TZID:Europe/Bucharest
X-WR-TIMEZONE:Europe/Bucharest
BEGIN:VEVENT
UID:1296@radiotimisoara.ro
DTSTART;TZID=Europe/Bucharest:20251221T170000
DTEND;TZID=Europe/Bucharest:20251221T170000
DTSTAMP:20251204T130039Z
URL:https://www.radiotimisoara.ro/agenda-evenimente/eveniment-la-fest-fdr-
 2025-teatrul-national-timisoara-program-2025-12-02-2025-12-07-2025-12-12-2
 025-12-19-2025-12-20-2025-12-21
SUMMARY:”CĂPȘUNI DE ZĂPADĂ” și ”ARĂDEANCA” la FEST-FDR 2025. 
 PROGRAM decembrie Teatrul Național Timișoara
DESCRIPTION:”Dramaturgia feminină în spectacolul de teatru. Generații
 ” este titlul ediției. Vezi programul spectacolelor din decembrie!
ATTACH;FMTTYPE=image/jpeg:https://www.radiotimisoara.ro/wp-content/uploads
 /2025/12/FEST-FDR-2025.jpeg
CATEGORIES:-Festivaluri,Teatru
LOCATION:Teatrul Naţional ”Mihai Eminescu”\, Str. Mărăşeşti Nr. 2\
 , Timişoara\, România
GEO:45.755069;21.225713
X-APPLE-STRUCTURED-LOCATION;VALUE=URI;X-ADDRESS=Str. Mărăşeşti Nr. 2\, 
 Timişoara\, România;X-APPLE-RADIUS=100;X-TITLE=Teatrul Naţional ”Miha
 i Eminescu”:geo:45.755069,21.225713
END:VEVENT
BEGIN:VTIMEZONE
TZID:Europe/Bucharest
X-LIC-LOCATION:Europe/Bucharest
BEGIN:STANDARD
DTSTART:20251026T030000
TZOFFSETFROM:+0300
TZOFFSETTO:+0200
TZNAME:EET
END:STANDARD
END:VTIMEZONE
END:VCALENDAR