BEGIN:VCALENDAR
VERSION:2.0
PRODID:-//wp-events-plugin.com//7.2.3.1//EN
TZID:Europe/Bucharest
X-WR-TIMEZONE:Europe/Bucharest
BEGIN:VEVENT
UID:1302@radiotimisoara.ro
DTSTART;TZID=Europe/Bucharest:20251208T100000
DTEND;TZID=Europe/Bucharest:20251209T100000
DTSTAMP:20251205T135714Z
URL:https://www.radiotimisoara.ro/agenda-evenimente/evenimente-comemorativ
 e-la-memorialul-revolutiei-expozitie-si-lansare-de-carte
SUMMARY:Evenimente comemorative la Memorialul Revoluției: expoziție și l
 ansare de carte
DESCRIPTION:Este vorba despre expoziția de fotografie „Timișoara 1990
 ”\, semnată de fotografa canadiană Joanne Elvy\, și despre prezentar
 ea volumului „1989. Anul revoluțiilor europene în memoria colectivă
 ”.
ATTACH;FMTTYPE=image/jpeg:https://www.radiotimisoara.ro/wp-content/uploads
 /2025/12/memorialul-revolutiei.jpg
CATEGORIES:_ AZI sau VIITOR,-Acces liber,Cultură,Expoziție,Lansare de
 carte
LOCATION:Asociatia Memorialul Revolutiei\, Str. Oituz Nr. 2B\, Timişoara\,
  Timiş\, România
GEO:45.759342;21.230097
X-APPLE-STRUCTURED-LOCATION;VALUE=URI;X-ADDRESS=Str. Oituz Nr. 2B\, Timişo
 ara\, Timiş\, România;X-APPLE-RADIUS=100;X-TITLE=Asociatia Memorialul Re
 volutiei:geo:45.759342,21.230097
END:VEVENT
BEGIN:VTIMEZONE
TZID:Europe/Bucharest
X-LIC-LOCATION:Europe/Bucharest
BEGIN:STANDARD
DTSTART:20251026T030000
TZOFFSETFROM:+0300
TZOFFSETTO:+0200
TZNAME:EET
END:STANDARD
END:VTIMEZONE
END:VCALENDAR