BEGIN:VCALENDAR
VERSION:2.0
PRODID:-//wp-events-plugin.com//7.2.3.1//EN
TZID:Europe/Bucharest
X-WR-TIMEZONE:Europe/Bucharest
BEGIN:VEVENT
UID:1060@radiotimisoara.ro
DTSTART;TZID=Europe/Bucharest:20250924T110000
DTEND;TZID=Europe/Bucharest:20250927T110000
DTSTAMP:20250926T070623Z
URL:https://www.radiotimisoara.ro/agenda-evenimente/evenimente-dedicate-sf
 -gerard-995-de-ani-de-la-infiintarea-episcopiei-de-cenad
SUMMARY:Evenimente dedicate Sf. Gerard: 995 de ani de la înființarea Epis
 copiei de Cenad
DESCRIPTION:Evenimentele vor avea loc în perioada 24 – 27 septembrie ș
 i cuprind momente liturgice\, culturale și tradiționale.
ATTACH;FMTTYPE=image/jpeg:https://www.radiotimisoara.ro/wp-content/uploads
 /2025/09/Sf.-Gerard-de-Cenad.jpg
CATEGORIES:_ AZI sau VIITOR,-Acces liber,Folclor / Muzică populară
LOCATION:Biserica Romano-Catolică ”Sf. Gerard”\, Biserica Romano-Catol
 ică ”Sf. Gerard”\, Cenad\, Timiș\, România
GEO:46.131736;20.581394
X-APPLE-STRUCTURED-LOCATION;VALUE=URI;X-ADDRESS=Biserica Romano-Catolică 
 ”Sf. Gerard”\, Cenad\, Timiș\, România;X-APPLE-RADIUS=100;X-TITLE=Bi
 serica Romano-Catolică ”Sf. Gerard”:geo:46.131736,20.581394
END:VEVENT
BEGIN:VTIMEZONE
TZID:Europe/Bucharest
X-LIC-LOCATION:Europe/Bucharest
BEGIN:DAYLIGHT
DTSTART:20250330T040000
TZOFFSETFROM:+0200
TZOFFSETTO:+0300
TZNAME:EEST
END:DAYLIGHT
END:VTIMEZONE
END:VCALENDAR