BEGIN:VCALENDAR
VERSION:2.0
PRODID:-//wp-events-plugin.com//7.2.3.1//EN
TZID:Europe/Bucharest
X-WR-TIMEZONE:Europe/Bucharest
BEGIN:VEVENT
UID:1287@radiotimisoara.ro
DTSTART;TZID=Europe/Bucharest;VALUE=DATE:20251202
DTEND;TZID=Europe/Bucharest;VALUE=DATE:20251209
DTSTAMP:20251203T190204Z
URL:https://www.radiotimisoara.ro/agenda-evenimente/evenimentele-culturale
 -ale-saptamanii-2-8-decembrie-in-timisoara
SUMMARY:Evenimentele culturale ale săptămânii 2 - 8 decembrie\, în Timi
 șoara
DESCRIPTION:Evenimentele fiecărei zile\, recomandate în newsletterul săp
 tămânal Visit Timisoara. Oră cu oră și cu linkuri către detalii!
ATTACH;FMTTYPE=image/jpeg:https://www.radiotimisoara.ro/wp-content/uploads
 /2025/04/visit-timisoara.jpg
CATEGORIES:_ AZI sau VIITOR,_ÎN
 DESFĂȘURARE,-Festivaluri,-Târguri,?Programele săptămânii,Concerte
 simfonice,Cultură,Expoziție,Folclor / Muzică populară,Operă,
 balet,Teatru
LOCATION:diverse locuri în Timișoara\, Timiș\, Timiș\, Timiș\, Români
 a
X-APPLE-STRUCTURED-LOCATION;VALUE=URI;X-ADDRESS=Timiș\, Timiș\, Timiș\, 
 România;X-APPLE-RADIUS=100;X-TITLE=diverse locuri în Timișoara:geo:0,0
END:VEVENT
BEGIN:VTIMEZONE
TZID:Europe/Bucharest
X-LIC-LOCATION:Europe/Bucharest
BEGIN:STANDARD
DTSTART:20251026T030000
TZOFFSETFROM:+0300
TZOFFSETTO:+0200
TZNAME:EET
END:STANDARD
END:VTIMEZONE
END:VCALENDAR