BEGIN:VCALENDAR
VERSION:2.0
PRODID:-//wp-events-plugin.com//7.2.3.1//EN
TZID:Europe/Bucharest
X-WR-TIMEZONE:Europe/Bucharest
BEGIN:VEVENT
UID:922@radiotimisoara.ro
DTSTART;TZID=Europe/Bucharest;VALUE=DATE:20250603
DTEND;TZID=Europe/Bucharest;VALUE=DATE:20250610
DTSTAMP:20250605T074123Z
URL:https://www.radiotimisoara.ro/agenda-evenimente/evenimentele-culturale
 -ale-saptamanii-3-9-iunie-la-timisoara
SUMMARY:Evenimentele culturale ale săptămânii 3 - 9 iunie la Timișoara
DESCRIPTION:Din programul săptămânii: Poli Timișoara își joacă pe t
 eren propriu promovarea în liga secundă\, în Parcul Pădurice se spun P
 ovești din vecini\, Ioan Holender va fi aniversat la Timișoara\, la împ
 linirea a 90 de ani. \n\n
ATTACH;FMTTYPE=image/jpeg:https://www.radiotimisoara.ro/wp-content/uploads
 /2025/04/visit-timisoara.jpg
CATEGORIES:_ AZI sau VIITOR,-Acces liber,Alte evenimente culturale,
 spiritualitate,Cultură,Film, Foto,Operă, balet
END:VEVENT
BEGIN:VTIMEZONE
TZID:Europe/Bucharest
X-LIC-LOCATION:Europe/Bucharest
BEGIN:DAYLIGHT
DTSTART:20250330T040000
TZOFFSETFROM:+0200
TZOFFSETTO:+0300
TZNAME:EEST
END:DAYLIGHT
END:VTIMEZONE
END:VCALENDAR