BEGIN:VCALENDAR
VERSION:2.0
PRODID:-//wp-events-plugin.com//7.2.3.1//EN
TZID:Europe/Bucharest
X-WR-TIMEZONE:Europe/Bucharest
BEGIN:VEVENT
UID:1056@radiotimisoara.ro
DTSTART;TZID=Europe/Bucharest;VALUE=DATE:20250909
DTEND;TZID=Europe/Bucharest;VALUE=DATE:20250916
DTSTAMP:20250909T104224Z
URL:https://www.radiotimisoara.ro/agenda-evenimente/evenimentele-culturale
 -ale-saptamanii-9-15-septembrie-la-timisoara
SUMMARY:Evenimentele culturale ale săptămânii 9 - 15 septembrie\, la Tim
 ișoara
DESCRIPTION:O săptămână cu multe tentații culturale: spectacolele Teat
 relor Maghiar și Național\, concert în Parcul Rozelor cu Filarmonica 
 Banatul\, proiecții exclusive și invitați speciali la Cinema Victoria\,
  party atipic la CET Sud\, noi expoziții și Ruga Timișoarei.
ATTACH;FMTTYPE=image/jpeg:https://www.radiotimisoara.ro/wp-content/uploads
 /2025/04/visit-timisoara.jpg
CATEGORIES:_ AZI sau VIITOR,-Acces
 liber,-Festivaluri,-Târguri,?Programele săptămânii,Concerte
 simfonice,Cultură,Expoziție,Film, Foto,Lansare de carte,Pop-rock,
 Divertisment, Dans, Agrement/Turism
END:VEVENT
BEGIN:VTIMEZONE
TZID:Europe/Bucharest
X-LIC-LOCATION:Europe/Bucharest
BEGIN:DAYLIGHT
DTSTART:20250330T040000
TZOFFSETFROM:+0200
TZOFFSETTO:+0300
TZNAME:EEST
END:DAYLIGHT
END:VTIMEZONE
END:VCALENDAR