BEGIN:VCALENDAR
VERSION:2.0
PRODID:-//wp-events-plugin.com//7.2.3.1//EN
TZID:Europe/Bucharest
X-WR-TIMEZONE:Europe/Bucharest
BEGIN:VEVENT
UID:1132@radiotimisoara.ro
DTSTART;TZID=Europe/Bucharest:20251029T190000
DTEND;TZID=Europe/Bucharest:20251029T190000
DTSTAMP:20251023T075603Z
URL:https://www.radiotimisoara.ro/agenda-evenimente/experimentul-pitesti-p
 roiectie-de-gala-la-filarmonica-banatul-din-timisoara
SUMMARY:„Experimentul Pitești”\, proiecție de gală la Cinema Studio 
 Timișoara
DESCRIPTION:Experimentul de la Penitenciarul din Pitești\, dintre anii 194
 9-1952\, a fost considerat cel mai agresiv program de spălare a minții d
 in Europa de Est. 
ATTACH;FMTTYPE=image/jpeg:https://www.radiotimisoara.ro/wp-content/uploads
 /2025/10/Cinema-Studio.png
CATEGORIES:_ AZI sau VIITOR,Cultură,Film, Foto
LOCATION:Cinema Studio\, Nikolaus Lenau nr. 2\, Timișoara\, Timiș\, Româ
 nia
GEO:45.752564;21.225781
X-APPLE-STRUCTURED-LOCATION;VALUE=URI;X-ADDRESS=Nikolaus Lenau nr. 2\, Timi
 șoara\, Timiș\, România;X-APPLE-RADIUS=100;X-TITLE=Cinema Studio:geo:45
 .752564,21.225781
END:VEVENT
BEGIN:VTIMEZONE
TZID:Europe/Bucharest
X-LIC-LOCATION:Europe/Bucharest
BEGIN:STANDARD
DTSTART:20251026T030000
TZOFFSETFROM:+0300
TZOFFSETTO:+0200
TZNAME:EET
END:STANDARD
END:VTIMEZONE
END:VCALENDAR