BEGIN:VCALENDAR
VERSION:2.0
PRODID:-//wp-events-plugin.com//7.2.3.1//EN
TZID:Europe/Bucharest
X-WR-TIMEZONE:Europe/Bucharest
BEGIN:VEVENT
UID:1192@radiotimisoara.ro
DTSTART;TZID=Europe/Bucharest:20251030T000000
DTEND;TZID=Europe/Bucharest:20251109T000000
DTSTAMP:20251031T101738Z
URL:https://www.radiotimisoara.ro/agenda-evenimente/expozitia-atlasul-sing
 uratatii-o-harta-vizuala-si-sonora-a-singuratatii-generatiei-z-de-explorat
 -la-timisoara
SUMMARY:Expoziția Atlasul Singurătății – o hartă vizuală și sonor
 ă a singurătății Generației Z\, de explorat la Timișoara
DESCRIPTION:Expoziția Atlasul Singurătății @GenZ:TM aduce laolaltă pov
 eștile autentice a șase tinere și tineri între 19 și 28 de ani\, afla
 ți în momente diferite ale vieții\, care vorbesc despre singurătate cu
  o luciditate necosmetizată.
ATTACH;FMTTYPE=image/jpeg:https://www.radiotimisoara.ro/wp-content/uploads
 /2025/10/atlasul-singuratatii.jpg
CATEGORIES:_ AZI sau VIITOR,-Acces liber,Cultură,Expoziție
LOCATION:Ambasada\, Splaiul Peneș Curcanul nr. 4-5\, Timişoara\, Timiș\,
  România
GEO:45.761483;21.251863
X-APPLE-STRUCTURED-LOCATION;VALUE=URI;X-ADDRESS=Splaiul Peneș Curcanul nr.
  4-5\, Timişoara\, Timiș\, România;X-APPLE-RADIUS=100;X-TITLE=Ambasada:
 geo:45.761483,21.251863
END:VEVENT
BEGIN:VTIMEZONE
TZID:Europe/Bucharest
X-LIC-LOCATION:Europe/Bucharest
BEGIN:STANDARD
DTSTART:20251026T030000
TZOFFSETFROM:+0300
TZOFFSETTO:+0200
TZNAME:EET
END:STANDARD
END:VTIMEZONE
END:VCALENDAR