BEGIN:VCALENDAR
VERSION:2.0
PRODID:-//wp-events-plugin.com//7.2.3.1//EN
TZID:Europe/Bucharest
X-WR-TIMEZONE:Europe/Bucharest
BEGIN:VEVENT
UID:1458@radiotimisoara.ro
DTSTART;TZID=Europe/Bucharest:20260308T100000
DTEND;TZID=Europe/Bucharest:20260322T170000
DTSTAMP:20260310T072150Z
URL:https://www.radiotimisoara.ro/agenda-evenimente/expozitia-colectiva-ax
 is-of-bloom-la-galeria-brateanu-din-timisoara
SUMMARY:Expoziția colectivă „Axis of Bloom”\, la Galeria Brăteanu di
 n Timișoara
DESCRIPTION:Proiectul reunește o selecție de lucrări semnate de cincizec
 i de artiste care explorează\, prin medii și abordări diverse\, teme le
 gate de identitate\, memorie\, corporalitate și transformare.
ATTACH;FMTTYPE=image/jpeg:https://www.radiotimisoara.ro/wp-content/uploads
 /2026/03/galeria-brateanu-axis-of-bloom.jpg
CATEGORIES:_ AZI sau VIITOR,-Acces liber,Cultură,Expoziție
END:VEVENT
BEGIN:VTIMEZONE
TZID:Europe/Bucharest
X-LIC-LOCATION:Europe/Bucharest
BEGIN:STANDARD
DTSTART:20251026T030000
TZOFFSETFROM:+0300
TZOFFSETTO:+0200
TZNAME:EET
END:STANDARD
END:VTIMEZONE
END:VCALENDAR