BEGIN:VCALENDAR
VERSION:2.0
PRODID:-//wp-events-plugin.com//7.2.3.1//EN
TZID:Europe/Bucharest
X-WR-TIMEZONE:Europe/Bucharest
BEGIN:VEVENT
UID:984@radiotimisoara.ro
DTSTART;TZID=Europe/Bucharest:20250705T130000
DTEND;TZID=Europe/Bucharest:20250823T200000
DTSTAMP:20250718T084636Z
URL:https://www.radiotimisoara.ro/agenda-evenimente/expozitia-efemeride-se
 mnata-de-artistul-vizual-matyas-laszlo-la-arad
SUMMARY:Expoziția „Efemeride”\, semnată de artistul vizual Mátyás L
 ászló\, la Arad
DESCRIPTION:Expoziția cuprinde o selecție de picturi\, desene și lucrăr
 i de modelaj care explorează\, cu o sensibilitate rară\, ideea de femini
 tate efemeră\, în afara clișeelor vizuale.
ATTACH;FMTTYPE=image/jpeg:https://www.radiotimisoara.ro/wp-content/uploads
 /2025/07/expozitie-arad.jpg
CATEGORIES:_ AZI sau VIITOR,-Acces liber,Cultură,Expoziție
LOCATION:After 5 Art Escape\, Strada Cicio Pop\, nr. 15D\, Arad\, Arad\, Ro
 mânia
GEO:46.172204;21.311814
X-APPLE-STRUCTURED-LOCATION;VALUE=URI;X-ADDRESS=Strada Cicio Pop\, nr. 15D\
 , Arad\, Arad\, România;X-APPLE-RADIUS=100;X-TITLE=After 5 Art Escape:geo
 :46.172204,21.311814
END:VEVENT
BEGIN:VTIMEZONE
TZID:Europe/Bucharest
X-LIC-LOCATION:Europe/Bucharest
BEGIN:DAYLIGHT
DTSTART:20250330T040000
TZOFFSETFROM:+0200
TZOFFSETTO:+0300
TZNAME:EEST
END:DAYLIGHT
END:VTIMEZONE
END:VCALENDAR