BEGIN:VCALENDAR
VERSION:2.0
PRODID:-//wp-events-plugin.com//7.2.3.1//EN
TZID:Europe/Bucharest
X-WR-TIMEZONE:Europe/Bucharest
BEGIN:VEVENT
UID:988@radiotimisoara.ro
DTSTART;TZID=Europe/Bucharest:20250725T160000
DTEND;TZID=Europe/Bucharest:20250725T160000
DTSTAMP:20250721T073202Z
URL:https://www.radiotimisoara.ro/agenda-evenimente/expozitia-foto-documen
 tara-fericitii-episcopi-martiri-greco-catolici-romani-la-memorialul-revolu
 tiei
SUMMARY:Expoziția foto–documentară Fericiții Episcopi Martiri Greco 
 – Catolici Români\, la Memorialul Revoluției
DESCRIPTION:Evenimentul este organizat de Memorialul Revoluției din Timiș
 oara\, Muzeul Județean Satu Mare și  Eparhia Greco – Catolică de Lug
 oj.
ATTACH;FMTTYPE=image/jpeg:https://www.radiotimisoara.ro/wp-content/uploads
 /2025/07/episcopi-martiri-expozitie.jpg
CATEGORIES:_ AZI sau VIITOR,-Acces liber,Cultură,Expoziție
LOCATION:Asociatia Memorialul Revolutiei\, Str. Oituz Nr. 2B\, Timişoara\,
  Timiş\, România
GEO:45.759342;21.230097
X-APPLE-STRUCTURED-LOCATION;VALUE=URI;X-ADDRESS=Str. Oituz Nr. 2B\, Timişo
 ara\, Timiş\, România;X-APPLE-RADIUS=100;X-TITLE=Asociatia Memorialul Re
 volutiei:geo:45.759342,21.230097
END:VEVENT
BEGIN:VTIMEZONE
TZID:Europe/Bucharest
X-LIC-LOCATION:Europe/Bucharest
BEGIN:DAYLIGHT
DTSTART:20250330T040000
TZOFFSETFROM:+0200
TZOFFSETTO:+0300
TZNAME:EEST
END:DAYLIGHT
END:VTIMEZONE
END:VCALENDAR