BEGIN:VCALENDAR
VERSION:2.0
PRODID:-//wp-events-plugin.com//7.2.3.1//EN
TZID:Europe/Bucharest
X-WR-TIMEZONE:Europe/Bucharest
BEGIN:VEVENT
UID:980@radiotimisoara.ro
DTSTART;TZID=Europe/Bucharest:20250717T170000
DTEND;TZID=Europe/Bucharest:20251005T170000
DTSTAMP:20250912T082653Z
URL:https://www.radiotimisoara.ro/agenda-evenimente/expozitia-mezzotinta-l
 a-muzeul-national-de-arta-timisoara-viziuni-inedite-din-arta-contemporana-
 emergenta
SUMMARY:Expoziția „Mezzotinta” la Muzeul Național de Artă Timișoara
DESCRIPTION:Expoziția reunește 30 de lucrări de gravură\, realizate de 
 studenți ai Facultății de Arte și Design\, Secția Grafică\, realizat
 e într-o tehnică specială și rar întâlnită\, mezzotinta sau „mani
 era neagră”.
ATTACH;FMTTYPE=image/jpeg:https://www.radiotimisoara.ro/wp-content/uploads
 /2025/07/Mezzotinta.jpg
CATEGORIES:_ÎN DESFĂȘURARE,-Acces liber,Cultură,Expoziție
LOCATION:Muzeul Național de Artă Timișoara\, Muzeul Național de Artă T
 imișoara\, Timișoara\, 300115\, România
GEO:45.757419;21.229293
X-APPLE-STRUCTURED-LOCATION;VALUE=URI;X-ADDRESS=Muzeul Național de Artă T
 imișoara\, Timișoara\, 300115\, România;X-APPLE-RADIUS=100;X-TITLE=Muze
 ul Național de Artă Timișoara:geo:45.757419,21.229293
END:VEVENT
BEGIN:VTIMEZONE
TZID:Europe/Bucharest
X-LIC-LOCATION:Europe/Bucharest
BEGIN:DAYLIGHT
DTSTART:20250330T040000
TZOFFSETFROM:+0200
TZOFFSETTO:+0300
TZNAME:EEST
END:DAYLIGHT
END:VTIMEZONE
END:VCALENDAR