BEGIN:VCALENDAR
VERSION:2.0
PRODID:-//wp-events-plugin.com//7.2.3.1//EN
TZID:Europe/Bucharest
X-WR-TIMEZONE:Europe/Bucharest
BEGIN:VEVENT
UID:1381@radiotimisoara.ro
DTSTART;TZID=Europe/Bucharest:20260114T090000
DTEND;TZID=Europe/Bucharest:20260913T170000
DTSTAMP:20260115T131101Z
URL:https://www.radiotimisoara.ro/agenda-evenimente/expozitia-planeta-noas
 tra-in-miniatura-la-complexul-muzeal-arad
SUMMARY:Expoziția „Planeta noastră în miniatură”\, la Complexul Muz
 eal Arad
DESCRIPTION:Expoziția reunește un număr de 46 de obiecte – o  colec
 ție de globuri pământești\, hărți și  atlase care aparține colec
 ționarului arădean Sicoe Gianin.\n
ATTACH;FMTTYPE=image/jpeg:https://www.radiotimisoara.ro/wp-content/uploads
 /2026/01/planeta-noastra-in-minatura.jpg
CATEGORIES:_ AZI sau VIITOR,Expoziție
LOCATION:Palatul Cultural Arad\, Piața George Enescu Nr. 1\, Arad\, Arad\,
  România
GEO:46.174167;21.320541
X-APPLE-STRUCTURED-LOCATION;VALUE=URI;X-ADDRESS=Piața George Enescu Nr. 1\
 , Arad\, Arad\, România;X-APPLE-RADIUS=100;X-TITLE=Palatul Cultural Arad:
 geo:46.174167,21.320541
END:VEVENT
BEGIN:VTIMEZONE
TZID:Europe/Bucharest
X-LIC-LOCATION:Europe/Bucharest
BEGIN:STANDARD
DTSTART:20251026T030000
TZOFFSETFROM:+0300
TZOFFSETTO:+0200
TZNAME:EET
END:STANDARD
BEGIN:DAYLIGHT
DTSTART:20260329T040000
TZOFFSETFROM:+0200
TZOFFSETTO:+0300
TZNAME:EEST
END:DAYLIGHT
END:VTIMEZONE
END:VCALENDAR