BEGIN:VCALENDAR
VERSION:2.0
PRODID:-//wp-events-plugin.com//7.2.3.1//EN
TZID:Europe/Bucharest
X-WR-TIMEZONE:Europe/Bucharest
BEGIN:VEVENT
UID:959@radiotimisoara.ro
DTSTART;TZID=Europe/Bucharest:20250709T190000
DTEND;TZID=Europe/Bucharest:20250731T190000
DTSTAMP:20250708T074523Z
URL:https://www.radiotimisoara.ro/agenda-evenimente/expozitie-de-afise-alt
 ernative-pentru-festivalul-ceaucinema-la-galeria-pygmalion
SUMMARY:Expoziție de afișe alternative pentru festivalul Ceau\,Cinema!\, 
 la Galeria Pygmalion
DESCRIPTION:Expoziția cuprinde aproape 30 de lucrări selectate în urma c
 oncursului de afișe alternative pentru ediția 12 a Ceau\, Cinema!\, dedi
 cat tinerilor între 18 și 25 de ani.
ATTACH;FMTTYPE=image/jpeg:https://www.radiotimisoara.ro/wp-content/uploads
 /2025/07/Expo-afise-alternative-ceau-cinema.jpg
CATEGORIES:_ AZI sau VIITOR,-Acces liber,Cultură,Expoziție
LOCATION:Galeria Pygmalion\, Str. Pacha Nr. 8\, Timişoara\, Timiș\, Româ
 nia
GEO:45.756871;21.229783
X-APPLE-STRUCTURED-LOCATION;VALUE=URI;X-ADDRESS=Str. Pacha Nr. 8\, Timişoa
 ra\, Timiș\, România;X-APPLE-RADIUS=100;X-TITLE=Galeria Pygmalion:geo:45
 .756871,21.229783
END:VEVENT
BEGIN:VTIMEZONE
TZID:Europe/Bucharest
X-LIC-LOCATION:Europe/Bucharest
BEGIN:DAYLIGHT
DTSTART:20250330T040000
TZOFFSETFROM:+0200
TZOFFSETTO:+0300
TZNAME:EEST
END:DAYLIGHT
END:VTIMEZONE
END:VCALENDAR