BEGIN:VCALENDAR
VERSION:2.0
PRODID:-//wp-events-plugin.com//7.2.3.1//EN
TZID:Europe/Bucharest
X-WR-TIMEZONE:Europe/Bucharest
BEGIN:VEVENT
UID:989@radiotimisoara.ro
DTSTART;TZID=Europe/Bucharest:20250723T190000
DTEND;TZID=Europe/Bucharest:20250731T190000
DTSTAMP:20250721T130616Z
URL:https://www.radiotimisoara.ro/agenda-evenimente/expozitie-de-grup-t40-
 fragmente-de-continuitate-la-galeria-park
SUMMARY:Expozitie de grup T40 - ”Fragmente de continuitate”\, la Galeri
 a Park
DESCRIPTION:Expoziția reunește lucrări artistice diferite ca stil și fo
 rmă\, dar care converg în jurul ideii de identitate artistică aflată 
 în schimbare\, de memorie afectivă și de reconstrucție simbolică a co
 tidianului\n\n
ATTACH;FMTTYPE=image/jpeg:https://www.radiotimisoara.ro/wp-content/uploads
 /2025/07/fragmente-de-continuitate.jpg
CATEGORIES:_ AZI sau VIITOR,-Acces liber,Cultură,Expoziție
LOCATION:Galeria Park a U.A.P. Filiala Timişoara\, Strada George Enescu nr
 . 1\, Timișoara\, Timiș\, România
GEO:45.749895;21.228241
X-APPLE-STRUCTURED-LOCATION;VALUE=URI;X-ADDRESS=Strada George Enescu nr. 1\
 , Timișoara\, Timiș\, România;X-APPLE-RADIUS=100;X-TITLE=Galeria Park a
  U.A.P. Filiala Timişoara:geo:45.749895,21.228241
END:VEVENT
BEGIN:VTIMEZONE
TZID:Europe/Bucharest
X-LIC-LOCATION:Europe/Bucharest
BEGIN:DAYLIGHT
DTSTART:20250330T040000
TZOFFSETFROM:+0200
TZOFFSETTO:+0300
TZNAME:EEST
END:DAYLIGHT
END:VTIMEZONE
END:VCALENDAR