BEGIN:VCALENDAR
VERSION:2.0
PRODID:-//wp-events-plugin.com//7.2.3.1//EN
TZID:Europe/Bucharest
X-WR-TIMEZONE:Europe/Bucharest
BEGIN:VEVENT
UID:1152@radiotimisoara.ro
DTSTART;TZID=Europe/Bucharest;VALUE=DATE:20251016
DTEND;TZID=Europe/Bucharest;VALUE=DATE:20251023
DTSTAMP:20251020T072035Z
URL:https://www.radiotimisoara.ro/agenda-evenimente/expozitie-de-sculptura
 -zergi-a-artistului-vizual-catalin-oancea-la-galeria-brateanu
SUMMARY:Expoziție de sculptură \,\,Zergi’’ a artistului vizual Cătal
 in Oancea\, la Galeria Brăteanu
DESCRIPTION:\,\,Versatil iubitor de materiale academice ale sculpturii\, Oa
 ncea dezvoltă un figurativ parabolic-hieratic.” spune criticul de artă
  Aurelia Mocanu despre opera artistului.
ATTACH;FMTTYPE=image/jpeg:https://www.radiotimisoara.ro/wp-content/uploads
 /2025/10/galeria-brateanu-zergi.jpg
CATEGORIES:_ AZI sau VIITOR,-Acces liber,Cultură,Expoziție
LOCATION:Galeria Brăteanu\, Strada Lucian Blaga Nr. 8\,\, Timișoara\, Tim
 iș\, România
GEO:45.75422;21.227479
X-APPLE-STRUCTURED-LOCATION;VALUE=URI;X-ADDRESS=Strada Lucian Blaga Nr. 8\,
 \, Timișoara\, Timiș\, România;X-APPLE-RADIUS=100;X-TITLE=Galeria Brăt
 eanu:geo:45.75422,21.227479
END:VEVENT
BEGIN:VTIMEZONE
TZID:Europe/Bucharest
X-LIC-LOCATION:Europe/Bucharest
BEGIN:DAYLIGHT
DTSTART:20250330T040000
TZOFFSETFROM:+0200
TZOFFSETTO:+0300
TZNAME:EEST
END:DAYLIGHT
END:VTIMEZONE
END:VCALENDAR