BEGIN:VCALENDAR
VERSION:2.0
PRODID:-//wp-events-plugin.com//7.2.3.1//EN
TZID:Europe/Bucharest
X-WR-TIMEZONE:Europe/Bucharest
BEGIN:VEVENT
UID:1057@radiotimisoara.ro
DTSTART;TZID=Europe/Bucharest:20251004T180000
DTEND;TZID=Europe/Bucharest:20251005T210000
DTSTAMP:20250910T083621Z
URL:https://www.radiotimisoara.ro/agenda-evenimente/festivalul-25-de-ore-d
 e-teatru-non-stop-la-timisoara-program
SUMMARY:Festivalul 25 de ore de teatru non-stop\, la Timișoara / PROGRAM
DESCRIPTION:Festivalul aduce în fața publicului 22 de evenimente susținu
 te de peste 100 de artiști tineri în 13 spații convenționale și necon
 venționale\, timp de mai bine de 25 de ore\, fără întrerupere.
ATTACH;FMTTYPE=image/jpeg:https://www.radiotimisoara.ro/wp-content/uploads
 /2025/09/bis-teatru-timisoara.jpg
CATEGORIES:_ AZI sau VIITOR,-PREMIERĂ,Cultură
END:VEVENT
BEGIN:VTIMEZONE
TZID:Europe/Bucharest
X-LIC-LOCATION:Europe/Bucharest
BEGIN:DAYLIGHT
DTSTART:20250330T040000
TZOFFSETFROM:+0200
TZOFFSETTO:+0300
TZNAME:EEST
END:DAYLIGHT
END:VTIMEZONE
END:VCALENDAR