BEGIN:VCALENDAR
VERSION:2.0
PRODID:-//wp-events-plugin.com//7.2.3.1//EN
TZID:Europe/Bucharest
X-WR-TIMEZONE:Europe/Bucharest
BEGIN:VEVENT
UID:967@radiotimisoara.ro
DTSTART;TZID=Europe/Bucharest:20250904T200000
DTEND;TZID=Europe/Bucharest:20250907T200000
DTSTAMP:20250709T192110Z
URL:https://www.radiotimisoara.ro/agenda-evenimente/festivalul-de-opera-si
 -opereta-2025-la-timisoara-program
SUMMARY:Festivalul de Operă și Operetă 2025 la Timișoara / PROGRAM
DESCRIPTION:Patru seri spectaculoase de operetă\, operă\, balet și music
 al vă așteaptă sub cerul liber\, în Parcul Rozelor.
ATTACH;FMTTYPE=image/jpeg:https://www.radiotimisoara.ro/wp-content/uploads
 /2025/07/Festival-Opera-si-Opereta-2025-1.jpg
CATEGORIES:_ AZI sau VIITOR,-Acces liber,-Festivaluri,Cultură,Operă,
 balet
LOCATION:Parcul Rozelor\, Timişoara\, Timişoara\, România
GEO:45.759722;21.23
X-APPLE-STRUCTURED-LOCATION;VALUE=URI;X-ADDRESS=Timişoara\, Timişoara\, R
 omânia;X-APPLE-RADIUS=100;X-TITLE=Parcul Rozelor:geo:45.759722,21.23
END:VEVENT
BEGIN:VTIMEZONE
TZID:Europe/Bucharest
X-LIC-LOCATION:Europe/Bucharest
BEGIN:DAYLIGHT
DTSTART:20250330T040000
TZOFFSETFROM:+0200
TZOFFSETTO:+0300
TZNAME:EEST
END:DAYLIGHT
END:VTIMEZONE
END:VCALENDAR