BEGIN:VCALENDAR
VERSION:2.0
PRODID:-//wp-events-plugin.com//7.2.3.1//EN
TZID:Europe/Bucharest
X-WR-TIMEZONE:Europe/Bucharest
BEGIN:VEVENT
UID:312@radiotimisoara.ro
DTSTART;TZID=Europe/Bucharest:20240703T190000
DTEND;TZID=Europe/Bucharest:20240707T190000
DTSTAMP:20240701T081339Z
URL:https://www.radiotimisoara.ro/agenda-evenimente/festivalul-inimilor-20
 24-in-parcul-rozelor-program
SUMMARY:Festivalul Inimilor 2024\, în Parcul Rozelor / PROGRAM
DESCRIPTION:Evenimentul aduce în oraș 28 de ansambluri din 14 țări\, pr
 intre care Brazilia\, Columbia\, Irlanda\, Polonia\, Mexic și Coreea de S
 ud.
ATTACH;FMTTYPE=image/jpeg:https://www.radiotimisoara.ro/wp-content/uploads
 /2024/07/festivalul-inimilor.jpg
CATEGORIES:_ AZI sau VIITOR,-Acces liber,-Festivaluri,Folclor / Muzică
 populară
END:VEVENT
BEGIN:VTIMEZONE
TZID:Europe/Bucharest
X-LIC-LOCATION:Europe/Bucharest
BEGIN:DAYLIGHT
DTSTART:20240331T040000
TZOFFSETFROM:+0200
TZOFFSETTO:+0300
TZNAME:EEST
END:DAYLIGHT
END:VTIMEZONE
END:VCALENDAR