BEGIN:VCALENDAR
VERSION:2.0
PRODID:-//wp-events-plugin.com//7.2.3.1//EN
TZID:Europe/Bucharest
X-WR-TIMEZONE:Europe/Bucharest
BEGIN:VEVENT
UID:976@radiotimisoara.ro
DTSTART;TZID=Europe/Bucharest:20250829T190000
DTEND;TZID=Europe/Bucharest:20250917T190000
DTSTAMP:20250820T112345Z
URL:https://www.radiotimisoara.ro/agenda-evenimente/festivalul-internation
 al-george-enescu-la-timisoara-un-regal-muzical-de-exceptie-program
SUMMARY:Festivalul Internațional „George Enescu” la Timișoara\, un re
 gal muzical de excepție / PROGRAM
DESCRIPTION:Timp de aproape trei săptămâni\, vor avea loc șapte evenime
 nte de înaltă clasă\, care se bucură de participrea unor ansambluri ș
 i dirijori de elită ai muzicii clasice internaționale.
ATTACH;FMTTYPE=image/jpeg:https://www.radiotimisoara.ro/wp-content/uploads
 /2025/07/festivalul-george-enescu-timisoara-filarmonica.png
CATEGORIES:-Festivaluri,Concerte simfonice,Cultură
LOCATION:Filarmonica ”Banatul”\, C.D.Loga Nr. 2\, Timişoara\, Timiş\,
  România
GEO:45.750854;21.226339
X-APPLE-STRUCTURED-LOCATION;VALUE=URI;X-ADDRESS=C.D.Loga Nr. 2\, Timişoara
 \, Timiş\, România;X-APPLE-RADIUS=100;X-TITLE=Filarmonica ”Banatul”:
 geo:45.750854,21.226339
END:VEVENT
BEGIN:VTIMEZONE
TZID:Europe/Bucharest
X-LIC-LOCATION:Europe/Bucharest
BEGIN:DAYLIGHT
DTSTART:20250330T040000
TZOFFSETFROM:+0200
TZOFFSETTO:+0300
TZNAME:EEST
END:DAYLIGHT
END:VTIMEZONE
END:VCALENDAR