BEGIN:VCALENDAR
VERSION:2.0
PRODID:-//wp-events-plugin.com//7.2.3.1//EN
TZID:Europe/Bucharest
X-WR-TIMEZONE:Europe/Bucharest
BEGIN:VEVENT
UID:920@radiotimisoara.ro
DTSTART;TZID=Europe/Bucharest:20250608T123000
DTEND;TZID=Europe/Bucharest:20250608T170000
DTSTAMP:20250603T132501Z
URL:https://www.radiotimisoara.ro/agenda-evenimente/festivalul-orezului-la
 -partos-cu-muzica-bucate-traditionale-si-targ-caritabil-2
SUMMARY:Festivalul Orezului la Partoș\, cu muzică\, bucate tradiționale 
 și târg caritabil
DESCRIPTION:Banii strânși vor fi folosiți pentru a oferi sprijin vârstn
 icilor și copiilor aflați în grija  Asociației Semper Agape.
ATTACH;FMTTYPE=image/jpeg:https://www.radiotimisoara.ro/wp-content/uploads
 /2025/06/festivaul-orezului-2025.jpg
CATEGORIES:_ AZI sau VIITOR,-Acces liber,-Festivaluri,Culinar,Folclor /
 Muzică populară,Social
LOCATION:Mănăstirea Partoș\, Partoș\, Partoș\, Timiș\, 317014\, Româ
 nia
GEO:45.333733;21.124985
X-APPLE-STRUCTURED-LOCATION;VALUE=URI;X-ADDRESS=Partoș\, Partoș\, Timiș\
 , 317014\, România;X-APPLE-RADIUS=100;X-TITLE=Mănăstirea Partoș:geo:45
 .333733,21.124985
END:VEVENT
BEGIN:VTIMEZONE
TZID:Europe/Bucharest
X-LIC-LOCATION:Europe/Bucharest
BEGIN:DAYLIGHT
DTSTART:20250330T040000
TZOFFSETFROM:+0200
TZOFFSETTO:+0300
TZNAME:EEST
END:DAYLIGHT
END:VTIMEZONE
END:VCALENDAR