BEGIN:VCALENDAR
VERSION:2.0
PRODID:-//wp-events-plugin.com//7.2.3.1//EN
TZID:Europe/Bucharest
X-WR-TIMEZONE:Europe/Bucharest
BEGIN:VEVENT
UID:1299@radiotimisoara.ro
DTSTART;TZID=Europe/Bucharest:20251206T173000
DTEND;TZID=Europe/Bucharest:20251206T173000
DTSTAMP:20251204T162438Z
URL:https://www.radiotimisoara.ro/agenda-evenimente/filmul-catane-premiera
 -nationala-la-timisoara-in-prezenta-regizoarei-ioana-mischie
SUMMARY:Filmul ”Catane” – premieră națională la Timișoara\, în p
 rezența regizoarei Ioana Mischie
DESCRIPTION:După un parcurs festivalier internațional de succes\, filmul 
 „Catane”\, comedia tandră inspirată din fapte reale\, cu un scenariu
  multipremiat\, scris și regizat de Ioana Mischie\, va avea prima proiec
 ție în România.
ATTACH;FMTTYPE=image/jpeg:https://www.radiotimisoara.ro/wp-content/uploads
 /2025/12/catane-proiectie-speciala.png
CATEGORIES:_ AZI sau VIITOR,-PREMIERĂ,Cultură,Film, Foto
LOCATION:Cinema Studio\, Nikolaus Lenau nr. 2\, Timișoara\, Timiș\, Româ
 nia
GEO:45.752564;21.225781
X-APPLE-STRUCTURED-LOCATION;VALUE=URI;X-ADDRESS=Nikolaus Lenau nr. 2\, Timi
 șoara\, Timiș\, România;X-APPLE-RADIUS=100;X-TITLE=Cinema Studio:geo:45
 .752564,21.225781
END:VEVENT
BEGIN:VTIMEZONE
TZID:Europe/Bucharest
X-LIC-LOCATION:Europe/Bucharest
BEGIN:STANDARD
DTSTART:20251026T030000
TZOFFSETFROM:+0300
TZOFFSETTO:+0200
TZNAME:EET
END:STANDARD
END:VTIMEZONE
END:VCALENDAR