BEGIN:VCALENDAR
VERSION:2.0
PRODID:-//wp-events-plugin.com//7.2.3.1//EN
TZID:Europe/Bucharest
X-WR-TIMEZONE:Europe/Bucharest
BEGIN:VEVENT
UID:1108@radiotimisoara.ro
DTSTART;TZID=Europe/Bucharest;VALUE=DATE:20251006
DTEND;TZID=Europe/Bucharest;VALUE=DATE:20251107
DTSTAMP:20251016T090206Z
URL:https://www.radiotimisoara.ro/agenda-evenimente/frame-it-proiect-desti
 nat-elevilor-din-liceele-vocationale-din-timisoara
SUMMARY:Frame It - Proiect destinat elevilor din liceele vocaționale din T
 imișoara
DESCRIPTION:Proiectul oferă tinerilor oportunitatea de a transforma expres
 ia artistică în producții video profesioniste\, sub îndrumarea unor me
 ntori profesioniști.
ATTACH;FMTTYPE=image/jpeg:https://www.radiotimisoara.ro/wp-content/uploads
 /2025/09/frame-it.jpg
CATEGORIES:_ AZI sau VIITOR,-Acces liber,Cultură,Expoziție
END:VEVENT
BEGIN:VTIMEZONE
TZID:Europe/Bucharest
X-LIC-LOCATION:Europe/Bucharest
BEGIN:DAYLIGHT
DTSTART:20250330T040000
TZOFFSETFROM:+0200
TZOFFSETTO:+0300
TZNAME:EEST
END:DAYLIGHT
BEGIN:STANDARD
DTSTART:20251026T030000
TZOFFSETFROM:+0300
TZOFFSETTO:+0200
TZNAME:EET
END:STANDARD
END:VTIMEZONE
END:VCALENDAR