BEGIN:VCALENDAR
VERSION:2.0
PRODID:-//wp-events-plugin.com//7.2.3.1//EN
TZID:Europe/Bucharest
X-WR-TIMEZONE:Europe/Bucharest
BEGIN:VEVENT
UID:928@radiotimisoara.ro
DTSTART;TZID=Europe/Bucharest:20250607T190000
DTEND;TZID=Europe/Bucharest:20250607T190000
DTSTAMP:20250605T072948Z
URL:https://www.radiotimisoara.ro/agenda-evenimente/gala-corala-in-biseric
 a-romano-catolica-sf-gerard-din-cenad
SUMMARY:Gală corală în Biserica Romano-Catolică Sf. Gerard din Cenad
DESCRIPTION:Concertul este organizat în cadrul ediției a cincea a proiect
 ului cultural „Sfântul Gerard de Cenad”\, desfășurat sub egida Asoc
 iației Culturale Pusta.
ATTACH;FMTTYPE=image/jpeg:https://www.radiotimisoara.ro/wp-content/uploads
 /2025/06/gala-corala-cenad.jpg
CATEGORIES:_ AZI sau VIITOR,-Acces liber,Concerte simfonice,Cultură
LOCATION:Biserica Romano-Catolică ”Sf. Gerard”\, Biserica Romano-Catol
 ică ”Sf. Gerard”\, Cenad\, Timiș\, România
GEO:46.131736;20.581394
X-APPLE-STRUCTURED-LOCATION;VALUE=URI;X-ADDRESS=Biserica Romano-Catolică 
 ”Sf. Gerard”\, Cenad\, Timiș\, România;X-APPLE-RADIUS=100;X-TITLE=Bi
 serica Romano-Catolică ”Sf. Gerard”:geo:46.131736,20.581394
END:VEVENT
BEGIN:VTIMEZONE
TZID:Europe/Bucharest
X-LIC-LOCATION:Europe/Bucharest
BEGIN:DAYLIGHT
DTSTART:20250330T040000
TZOFFSETFROM:+0200
TZOFFSETTO:+0300
TZNAME:EEST
END:DAYLIGHT
END:VTIMEZONE
END:VCALENDAR