BEGIN:VCALENDAR
VERSION:2.0
PRODID:-//wp-events-plugin.com//7.2.3.1//EN
TZID:Europe/Bucharest
X-WR-TIMEZONE:Europe/Bucharest
BEGIN:VEVENT
UID:921@radiotimisoara.ro
DTSTART;TZID=Europe/Bucharest:20250710T180000
DTEND;TZID=Europe/Bucharest:20250713T180000
DTSTAMP:20250710T075435Z
URL:https://www.radiotimisoara.ro/agenda-evenimente/garana-jazz-festival-2
 025-program
SUMMARY:Gărâna Jazz Festival 2025 / PROGRAM
DESCRIPTION:Cea de-a 29-a ediție a Gărâna Jazz Festival reunește pe sce
 na din Poiana Lupului artiști consacrați și proiecte experimentale din 
 peste 8 țări.
ATTACH;FMTTYPE=image/jpeg:https://www.radiotimisoara.ro/wp-content/uploads
 /2025/06/garana-jazz-festival-2025.jpg
CATEGORIES:_ AZI sau VIITOR,-Festivaluri
LOCATION:Poiana Lupului Gărâna\, Gărâna\, Gărâna\, Caraş-Severin\, R
 omânia
GEO:45.208605;22.084151
X-APPLE-STRUCTURED-LOCATION;VALUE=URI;X-ADDRESS=Gărâna\, Gărâna\, Cara
 ş-Severin\, România;X-APPLE-RADIUS=100;X-TITLE=Poiana Lupului Gărâna:g
 eo:45.208605,22.084151
END:VEVENT
BEGIN:VTIMEZONE
TZID:Europe/Bucharest
X-LIC-LOCATION:Europe/Bucharest
BEGIN:DAYLIGHT
DTSTART:20250330T040000
TZOFFSETFROM:+0200
TZOFFSETTO:+0300
TZNAME:EEST
END:DAYLIGHT
END:VTIMEZONE
END:VCALENDAR