BEGIN:VCALENDAR
VERSION:2.0
PRODID:-//wp-events-plugin.com//7.2.3.1//EN
TZID:Europe/Bucharest
X-WR-TIMEZONE:Europe/Bucharest
BEGIN:VEVENT
UID:990@radiotimisoara.ro
DTSTART;TZID=Europe/Bucharest:20250725T160000
DTEND;TZID=Europe/Bucharest:20250725T160000
DTSTAMP:20250722T085348Z
URL:https://www.radiotimisoara.ro/agenda-evenimente/global-village-aduce-i
 n-timisoara-traditii-din-intreaga-lume-la-iulius-town
SUMMARY:„Global Village” aduce în Timișoara tradiții din întreaga l
 ume\, la Iulius Town
DESCRIPTION:Târgul cultural include standuri tematice unde vizitatorii vor
  putea explora obiecte tradiționale\, articole vestimentare\, suveniruri\
 , dar și să deguste preparate specifice din peste 10 țări.
ATTACH;FMTTYPE=image/jpeg:https://www.radiotimisoara.ro/wp-content/uploads
 /2025/07/global-village-aiesec.jpg
CATEGORIES:_ AZI sau VIITOR,-Acces liber,Alte evenimente culturale,
 spiritualitate,Cultură
END:VEVENT
BEGIN:VTIMEZONE
TZID:Europe/Bucharest
X-LIC-LOCATION:Europe/Bucharest
BEGIN:DAYLIGHT
DTSTART:20250330T040000
TZOFFSETFROM:+0200
TZOFFSETTO:+0300
TZNAME:EEST
END:DAYLIGHT
END:VTIMEZONE
END:VCALENDAR