BEGIN:VCALENDAR
VERSION:2.0
PRODID:-//wp-events-plugin.com//7.2.3.1//EN
TZID:Europe/Bucharest
X-WR-TIMEZONE:Europe/Bucharest
BEGIN:VEVENT
UID:916@radiotimisoara.ro
DTSTART;TZID=Europe/Bucharest:20250602T100000
DTEND;TZID=Europe/Bucharest:20250607T190000
DTSTAMP:20250605T074149Z
URL:https://www.radiotimisoara.ro/agenda-evenimente/gradini-secrete-plasmu
 ite-de-micii-artisti
SUMMARY:”Grădini secrete” plăsmuite de micii artiști | GALERIE FOTO
DESCRIPTION:Expoziția  de la Galeria Park (str. George Enescu\, nr. 1) poa
 te fi vizitată până pe 7 iunie\, între orele 10-19.
ATTACH;FMTTYPE=image/jpeg:https://www.radiotimisoara.ro/wp-content/uploads
 /2025/05/250602-Expozitie-art-copii-Gradini-secrete_cr.jpg
CATEGORIES:Expoziție
LOCATION:Galeria Park a U.A.P. Filiala Timişoara\, Strada George Enescu nr
 . 1\, Timișoara\, Timiș\, România
GEO:45.749895;21.228241
X-APPLE-STRUCTURED-LOCATION;VALUE=URI;X-ADDRESS=Strada George Enescu nr. 1\
 , Timișoara\, Timiș\, România;X-APPLE-RADIUS=100;X-TITLE=Galeria Park a
  U.A.P. Filiala Timişoara:geo:45.749895,21.228241
END:VEVENT
BEGIN:VTIMEZONE
TZID:Europe/Bucharest
X-LIC-LOCATION:Europe/Bucharest
BEGIN:DAYLIGHT
DTSTART:20250330T040000
TZOFFSETFROM:+0200
TZOFFSETTO:+0300
TZNAME:EEST
END:DAYLIGHT
END:VTIMEZONE
END:VCALENDAR