BEGIN:VCALENDAR
VERSION:2.0
PRODID:-//wp-events-plugin.com//7.2.3.1//EN
TZID:Europe/Bucharest
X-WR-TIMEZONE:Europe/Bucharest
BEGIN:VEVENT
UID:982@radiotimisoara.ro
DTSTART;TZID=Europe/Bucharest:20250716T190000
DTEND;TZID=Europe/Bucharest:20250730T190000
DTSTAMP:20250718T075453Z
URL:https://www.radiotimisoara.ro/agenda-evenimente/impresii-cromatice-exp
 ozitie-de-pictura-a-artistului-daniel-suici-la-galeria-brateanu
SUMMARY:\,\,Impresii cromatice”\, expoziție de pictură a artistului Dan
 iel Suici\, la Galeria Brăteanu
DESCRIPTION:În lucrările sale\, Daniel Suici surpinde natura\, locuri fam
 iliare și ipostaze cotidiene\, într-o manieră originală\, recognoscibi
 lă.
ATTACH;FMTTYPE=image/jpeg:https://www.radiotimisoara.ro/wp-content/uploads
 /2025/07/Daniel-Suici-4.jpg
CATEGORIES:_ AZI sau VIITOR,-Acces liber,Cultură,Expoziție
LOCATION:Galeria Brăteanu\, Strada Lucian Blaga Nr. 8\,\, Timișoara\, Tim
 iș\, România
GEO:45.75422;21.227479
X-APPLE-STRUCTURED-LOCATION;VALUE=URI;X-ADDRESS=Strada Lucian Blaga Nr. 8\,
 \, Timișoara\, Timiș\, România;X-APPLE-RADIUS=100;X-TITLE=Galeria Brăt
 eanu:geo:45.75422,21.227479
END:VEVENT
BEGIN:VTIMEZONE
TZID:Europe/Bucharest
X-LIC-LOCATION:Europe/Bucharest
BEGIN:DAYLIGHT
DTSTART:20250330T040000
TZOFFSETFROM:+0200
TZOFFSETTO:+0300
TZNAME:EEST
END:DAYLIGHT
END:VTIMEZONE
END:VCALENDAR