BEGIN:VCALENDAR
VERSION:2.0
PRODID:-//wp-events-plugin.com//7.2.3.1//EN
TZID:Europe/Bucharest
X-WR-TIMEZONE:Europe/Bucharest
BEGIN:VEVENT
UID:994@radiotimisoara.ro
DTSTART;TZID=Europe/Bucharest:20250802T110000
DTEND;TZID=Europe/Bucharest:20250802T110000
DTSTAMP:20250722T114302Z
URL:https://www.radiotimisoara.ro/agenda-evenimente/jazz-in-avanpremiera-l
 a-ziua-timisoarei-shuteen-erdenebaatar-si-nils-kugelmann
SUMMARY:Jazz în avanpremieră la Ziua Timișoarei: Shuteen Erdenebaatar ș
 i Nils Kugelmann
DESCRIPTION:Concertul aduce împreună jazzul contemporan\, influențele cl
 asice și sunetul clarinetului contra-alto – un instrument puțin întâ
 lnit pe scenele europene.
ATTACH;FMTTYPE=image/jpeg:https://www.radiotimisoara.ro/wp-content/uploads
 /2025/07/timisoara-jazz-festival-ziua-timisoarei.png
CATEGORIES:_ AZI sau VIITOR,-Acces liber,Pop-rock, Divertisment, Dans,
 Agrement/Turism
LOCATION:Biserica Sf. Ecaterina\, str. J. Boliay nr 4\, Timișoara\, Român
 ia
GEO:45.754332;21.228288
X-APPLE-STRUCTURED-LOCATION;VALUE=URI;X-ADDRESS=str. J. Boliay nr 4\, Timi
 șoara\, România;X-APPLE-RADIUS=100;X-TITLE=Biserica Sf. Ecaterina:geo:45
 .754332,21.228288
END:VEVENT
BEGIN:VTIMEZONE
TZID:Europe/Bucharest
X-LIC-LOCATION:Europe/Bucharest
BEGIN:DAYLIGHT
DTSTART:20250330T040000
TZOFFSETFROM:+0200
TZOFFSETTO:+0300
TZNAME:EEST
END:DAYLIGHT
END:VTIMEZONE
END:VCALENDAR