BEGIN:VCALENDAR
VERSION:2.0
PRODID:-//wp-events-plugin.com//7.2.3.1//EN
TZID:Europe/Bucharest
X-WR-TIMEZONE:Europe/Bucharest
BEGIN:VEVENT
UID:1315@radiotimisoara.ro
DTSTART;TZID=Europe/Bucharest:20251213T160000
DTEND;TZID=Europe/Bucharest:20251214T210000
DTSTAMP:20251210T100331Z
URL:https://www.radiotimisoara.ro/agenda-evenimente/kasimir-si-karoline-o-
 premiera-despre-fragilitate-si-schimbare-la-teatrul-maghiar-timisoara
SUMMARY:„Kasimir și Karoline”\, o premieră despre fragilitate și sch
 imbare\, la Teatrul Maghiar Timișoara
DESCRIPTION:Montat în viziunea tânărului regizor Ármin Ricz\, spectacol
 ul\, o portretizare vibrantă a fragilității în tumultul unei lumi afla
 te în schimbare\, propune o lectură contemporană și inedită a textulu
 i lui Ödön von Horváth.
ATTACH;FMTTYPE=image/jpeg:https://www.radiotimisoara.ro/wp-content/uploads
 /2025/12/teatrul-maghiar-timisoara-premiera.jpg
CATEGORIES:_ AZI sau VIITOR,-PREMIERĂ,Cultură,Teatru
LOCATION:Teatrul Maghiar de Stat"Csiky Gergely"\, Str. Alba Iulia nr. 2\, T
 imişoara\, România
GEO:45.754208;21.226236
X-APPLE-STRUCTURED-LOCATION;VALUE=URI;X-ADDRESS=Str. Alba Iulia nr. 2\, Tim
 işoara\, România;X-APPLE-RADIUS=100;X-TITLE=Teatrul Maghiar de Stat\"Csi
 ky Gergely\":geo:45.754208,21.226236
END:VEVENT
BEGIN:VTIMEZONE
TZID:Europe/Bucharest
X-LIC-LOCATION:Europe/Bucharest
BEGIN:STANDARD
DTSTART:20251026T030000
TZOFFSETFROM:+0300
TZOFFSETTO:+0200
TZNAME:EET
END:STANDARD
END:VTIMEZONE
END:VCALENDAR