BEGIN:VCALENDAR
VERSION:2.0
PRODID:-//wp-events-plugin.com//7.2.3.1//EN
TZID:Europe/Bucharest
X-WR-TIMEZONE:Europe/Bucharest
BEGIN:VEVENT
UID:851@radiotimisoara.ro
DTSTART;TZID=Europe/Bucharest:20250429T190000
DTEND;TZID=Europe/Bucharest:20250614T190000
DTSTAMP:20250605T074401Z
URL:https://www.radiotimisoara.ro/agenda-evenimente/kunsthalle-bega-prezin
 ta-expozitia-work-as-a-trace-as-a-place-a-artistului-slovac-martin-piacek
SUMMARY:Kunsthalle Bega prezintă expoziția Work as a Trace as a Place a a
 rtistului slovac Martin Piaček
DESCRIPTION:Expoziția reunește câțiva ani de explorare în care artistu
 l s-a aplecat asupra contrastului dintre moale și solid\, urmărind căl
 ătorii materiale cartografiate în piatră.
ATTACH;FMTTYPE=image/jpeg:https://www.radiotimisoara.ro/wp-content/uploads
 /2025/04/kunsthalle-bega.jpg
CATEGORIES:_ AZI sau VIITOR,-Acces liber,Cultură,Expoziție
LOCATION:Kunsthalle Bega\, Circumvalaținii nr. 10\, Timișoara\, Timiș\, 
 România
GEO:45.757788;21.218394
X-APPLE-STRUCTURED-LOCATION;VALUE=URI;X-ADDRESS=Circumvalaținii nr. 10\, T
 imișoara\, Timiș\, România;X-APPLE-RADIUS=100;X-TITLE=Kunsthalle Bega:g
 eo:45.757788,21.218394
END:VEVENT
BEGIN:VTIMEZONE
TZID:Europe/Bucharest
X-LIC-LOCATION:Europe/Bucharest
BEGIN:DAYLIGHT
DTSTART:20250330T040000
TZOFFSETFROM:+0200
TZOFFSETTO:+0300
TZNAME:EEST
END:DAYLIGHT
END:VTIMEZONE
END:VCALENDAR