BEGIN:VCALENDAR
VERSION:2.0
PRODID:-//wp-events-plugin.com//7.2.3.1//EN
TZID:Europe/Bucharest
X-WR-TIMEZONE:Europe/Bucharest
BEGIN:VEVENT
UID:1461@radiotimisoara.ro
DTSTART;TZID=Europe/Bucharest:20260310T163000
DTEND;TZID=Europe/Bucharest:20260310T163000
DTSTAMP:20260305T100829Z
URL:https://www.radiotimisoara.ro/agenda-evenimente/learning-grounds-ajung
 e-la-timisoara-invatarea-ca-stil-de-viata-nu-doar-ca-pregatire-pentru-job
SUMMARY:Learning Grounds ajunge la Timișoara: învățarea ca stil de via
 ță\, nu doar ca pregătire pentru job
DESCRIPTION:Evenimentul se adresează profesioniștilor cu experiență\, a
 ntreprenorilor\, liderilor și tuturor celor care cred că educația nu se
  termină după școală și vor să transforme învățarea într-un stil
  de viață.
ATTACH;FMTTYPE=image/jpeg:https://www.radiotimisoara.ro/wp-content/uploads
 /2026/03/lift-learning.jpg
CATEGORIES:_ AZI sau VIITOR,-Acces liber,Business, cariere
LOCATION:Cinema Studio\, Nikolaus Lenau nr. 2\, Timișoara\, Timiș\, Româ
 nia
GEO:45.752564;21.225781
X-APPLE-STRUCTURED-LOCATION;VALUE=URI;X-ADDRESS=Nikolaus Lenau nr. 2\, Timi
 șoara\, Timiș\, România;X-APPLE-RADIUS=100;X-TITLE=Cinema Studio:geo:45
 .752564,21.225781
END:VEVENT
BEGIN:VTIMEZONE
TZID:Europe/Bucharest
X-LIC-LOCATION:Europe/Bucharest
BEGIN:STANDARD
DTSTART:20251026T030000
TZOFFSETFROM:+0300
TZOFFSETTO:+0200
TZNAME:EET
END:STANDARD
END:VTIMEZONE
END:VCALENDAR