BEGIN:VCALENDAR
VERSION:2.0
PRODID:-//wp-events-plugin.com//7.2.3.1//EN
TZID:Europe/Bucharest
X-WR-TIMEZONE:Europe/Bucharest
BEGIN:VEVENT
UID:421@radiotimisoara.ro
DTSTART;TZID=Europe/Bucharest:20240920T180000
DTEND;TZID=Europe/Bucharest:20240920T180000
DTSTAMP:20240916T143600Z
URL:https://www.radiotimisoara.ro/agenda-evenimente/noaptea-filosofiei-la-
 timisoara-editia-a-patra-program
SUMMARY:Noaptea Filosofiei la Timișoara\, ediția a patra / PROGRAM
DESCRIPTION:Pentru o noapte\, publicul de toate vârstele este invitat să 
 ia parte la dezbaterea publică\, în tradiția gânditorilor greci ai Ago
 rei.
ATTACH;FMTTYPE=image/jpeg:https://www.radiotimisoara.ro/wp-content/uploads
 /2024/09/noaptea-filosofiei.jpg
CATEGORIES:_ AZI sau VIITOR,-Acces liber,Alte evenimente culturale,
 spiritualitate,Cultură
LOCATION:Institutul Francez Timişoara\, Bv. C.D.Loga Nr. 46\, Timişoara\,
  Timiş\, România
GEO:45.753909;21.236228
X-APPLE-STRUCTURED-LOCATION;VALUE=URI;X-ADDRESS=Bv. C.D.Loga Nr. 46\, Timi
 şoara\, Timiş\, România;X-APPLE-RADIUS=100;X-TITLE=Institutul Francez T
 imişoara:geo:45.753909,21.236228
END:VEVENT
BEGIN:VTIMEZONE
TZID:Europe/Bucharest
X-LIC-LOCATION:Europe/Bucharest
BEGIN:DAYLIGHT
DTSTART:20240331T040000
TZOFFSETFROM:+0200
TZOFFSETTO:+0300
TZNAME:EEST
END:DAYLIGHT
END:VTIMEZONE
END:VCALENDAR