BEGIN:VCALENDAR
VERSION:2.0
PRODID:-//wp-events-plugin.com//7.2.3.1//EN
TZID:Europe/Bucharest
X-WR-TIMEZONE:Europe/Bucharest
BEGIN:VEVENT
UID:1054@radiotimisoara.ro
DTSTART;TZID=Europe/Bucharest:20250906T000000
DTEND;TZID=Europe/Bucharest:20250906T000000
DTSTAMP:20250905T202912Z
URL:https://www.radiotimisoara.ro/agenda-evenimente/noaptea-muzeelor-la-sa
 te-2025-in-judetul-arad
SUMMARY:Noaptea Muzeelor la Sate 2025 în județul Arad
DESCRIPTION:Ediția a treia a Nopții Muzeelor la Sate va avea loc în 6 se
 ptembrie 2025\, în toată țara\, cu peste 100 de obiective și proiecte 
 culturale prezentate și activate în micile comunități din România din
  spațiul rural.
ATTACH;FMTTYPE=image/jpeg:https://www.radiotimisoara.ro/wp-content/uploads
 /2025/09/noaptea-muzeelor-la-sate-arad.jpg
CATEGORIES:_ AZI sau VIITOR,-Acces liber,Cultură,Expoziție
END:VEVENT
BEGIN:VTIMEZONE
TZID:Europe/Bucharest
X-LIC-LOCATION:Europe/Bucharest
BEGIN:DAYLIGHT
DTSTART:20250330T040000
TZOFFSETFROM:+0200
TZOFFSETTO:+0300
TZNAME:EEST
END:DAYLIGHT
END:VTIMEZONE
END:VCALENDAR