BEGIN:VCALENDAR
VERSION:2.0
PRODID:-//wp-events-plugin.com//7.2.3.1//EN
TZID:Europe/Bucharest
X-WR-TIMEZONE:Europe/Bucharest
BEGIN:VEVENT
UID:295@radiotimisoara.ro
DTSTART;TZID=Europe/Bucharest:20240616T160000
DTEND;TZID=Europe/Bucharest:20240616T160000
DTSTAMP:20240613T083928Z
URL:https://www.radiotimisoara.ro/agenda-evenimente/o-noua-editie-a-festiv
 alului-etniilor-la-muzeul-satului-banatean
SUMMARY:O nouă ediție a Festivalului Etniilor la Muzeul Satului Bănățe
 an
DESCRIPTION:Parada etniilor\, spectacol de teatru pentru copii\, atelier de
  amintiri\, karaoke\, atelier de pictură și coregrafie\, degustări de p
 roduse gastronomice tradiționale și spectacol folcloric multietnic.
ATTACH;FMTTYPE=image/jpeg:https://www.radiotimisoara.ro/wp-content/uploads
 /2024/06/Festivalul-Etniilor-2024_F-1.jpg
CATEGORIES:_ AZI sau VIITOR,-Acces liber,-Festivaluri,Folclor / Muzică
 populară
LOCATION:Muzeul Național de Artă Timișoara\, Muzeul Național de Artă T
 imișoara\, Timișoara\, 300115\, România
GEO:45.757419;21.229293
X-APPLE-STRUCTURED-LOCATION;VALUE=URI;X-ADDRESS=Muzeul Național de Artă T
 imișoara\, Timișoara\, 300115\, România;X-APPLE-RADIUS=100;X-TITLE=Muze
 ul Național de Artă Timișoara:geo:45.757419,21.229293
END:VEVENT
BEGIN:VTIMEZONE
TZID:Europe/Bucharest
X-LIC-LOCATION:Europe/Bucharest
BEGIN:DAYLIGHT
DTSTART:20240331T040000
TZOFFSETFROM:+0200
TZOFFSETTO:+0300
TZNAME:EEST
END:DAYLIGHT
END:VTIMEZONE
END:VCALENDAR