BEGIN:VCALENDAR
VERSION:2.0
PRODID:-//wp-events-plugin.com//7.2.3.1//EN
TZID:Europe/Bucharest
X-WR-TIMEZONE:Europe/Bucharest
BEGIN:VEVENT
UID:544@radiotimisoara.ro
DTSTART;TZID=Europe/Bucharest:20241107T100000
DTEND;TZID=Europe/Bucharest:20241231T180000
DTSTAMP:20241118T075721Z
URL:https://www.radiotimisoara.ro/agenda-evenimente/o-privire-de-aproape-o
 -noua-perspectiva-asupra-expozitiei-permanente-corneliu-baba
SUMMARY:„O privire de aproape”: o nouă perspectivă asupra expoziției
  permanente Corneliu Baba
DESCRIPTION:Expoziția reunește cea mai amplă și cuprinzătoare colecți
 e publică de lucrări ale maestrului Corneliu Baba\, prezentată dintr-o 
 nouă și inovatoare perspectivă curatorială.
ATTACH;FMTTYPE=image/jpeg:https://www.radiotimisoara.ro/wp-content/uploads
 /2024/11/expozitie-muzeul-de-arta-timisoara.jpg
CATEGORIES:_ AZI sau VIITOR,_ÎN DESFĂȘURARE,Cultură,Expoziție
LOCATION:Muzeul Național de Artă Timișoara\, Muzeul Național de Artă T
 imișoara\, Timișoara\, 300115\, România
GEO:45.757419;21.229293
X-APPLE-STRUCTURED-LOCATION;VALUE=URI;X-ADDRESS=Muzeul Național de Artă T
 imișoara\, Timișoara\, 300115\, România;X-APPLE-RADIUS=100;X-TITLE=Muze
 ul Național de Artă Timișoara:geo:45.757419,21.229293
END:VEVENT
BEGIN:VTIMEZONE
TZID:Europe/Bucharest
X-LIC-LOCATION:Europe/Bucharest
BEGIN:STANDARD
DTSTART:20241027T030000
TZOFFSETFROM:+0300
TZOFFSETTO:+0200
TZNAME:EET
END:STANDARD
END:VTIMEZONE
END:VCALENDAR