BEGIN:VCALENDAR
VERSION:2.0
PRODID:-//wp-events-plugin.com//7.2.3.1//EN
TZID:Europe/Bucharest
X-WR-TIMEZONE:Europe/Bucharest
BEGIN:VEVENT
UID:1180@radiotimisoara.ro
DTSTART;TZID=Europe/Bucharest:20251025T180000
DTEND;TZID=Europe/Bucharest:20251026T180000
DTSTAMP:20251022T090708Z
URL:https://www.radiotimisoara.ro/agenda-evenimente/orasul-paralel-party-i
 n-elisabetin-ultimele-spectacole-din-trilogia-care-a-reinventat-teatrul-ti
 misorean
SUMMARY:Orașul Paralel: Party în Elisabetin - ultimele spectacole din tri
 logia care a reinventat teatrul timișorean
DESCRIPTION:Trilogia a fost apreciată pentru modul în care a transformat 
 experiența teatrală într-o formă de participare civică — o invitaț
 ie de a (re)vedea orașul prin ochii celorlalți\, de a reflecta asupra me
 moriei colective și a identității locale și de a te (re)îndrăgosti d
 e cartierele istorice.
ATTACH;FMTTYPE=image/jpeg:https://www.radiotimisoara.ro/wp-content/uploads
 /2025/10/orasul-paralel.jpg
CATEGORIES:_ AZI sau VIITOR,Cultură,Teatru
END:VEVENT
BEGIN:VTIMEZONE
TZID:Europe/Bucharest
X-LIC-LOCATION:Europe/Bucharest
BEGIN:DAYLIGHT
DTSTART:20250330T040000
TZOFFSETFROM:+0200
TZOFFSETTO:+0300
TZNAME:EEST
END:DAYLIGHT
BEGIN:STANDARD
DTSTART:20251026T030000
TZOFFSETFROM:+0300
TZOFFSETTO:+0200
TZNAME:EET
END:STANDARD
END:VTIMEZONE
END:VCALENDAR