BEGIN:VCALENDAR
VERSION:2.0
PRODID:-//wp-events-plugin.com//7.2.3.1//EN
TZID:Europe/Bucharest
X-WR-TIMEZONE:Europe/Bucharest
BEGIN:VEVENT
UID:1470@radiotimisoara.ro
DTSTART;TZID=Europe/Bucharest:20260311T190000
DTEND;TZID=Europe/Bucharest:20260311T190000
DTSTAMP:20260311T072822Z
URL:https://www.radiotimisoara.ro/agenda-evenimente/otello-revine-pe-scena
 -operei-nationale-romane-din-timisoara
SUMMARY:”Otello” revine pe scena Operei Naționale Române din Timișoa
 ra
DESCRIPTION:După un sfert de secol\, montarea revine pe scena timișorean
 ă\, păstrând spiritul original și aducând\, în același timp\, o dis
 tribuție valoroasă.
ATTACH;FMTTYPE=image/jpeg:https://www.radiotimisoara.ro/wp-content/uploads
 /2026/03/Otelloopera-timisoara.jpg
CATEGORIES:_ AZI sau VIITOR,Concerte simfonice,Cultură
LOCATION:Opera Naţională Română\, Piața Victoriei (Operei)\, Timişoar
 a\, România
GEO:45.754059;21.225857
X-APPLE-STRUCTURED-LOCATION;VALUE=URI;X-ADDRESS=Piața Victoriei (Operei)\,
  Timişoara\, România;X-APPLE-RADIUS=100;X-TITLE=Opera Naţională Român
 ă:geo:45.754059,21.225857
END:VEVENT
BEGIN:VTIMEZONE
TZID:Europe/Bucharest
X-LIC-LOCATION:Europe/Bucharest
BEGIN:STANDARD
DTSTART:20251026T030000
TZOFFSETFROM:+0300
TZOFFSETTO:+0200
TZNAME:EET
END:STANDARD
END:VTIMEZONE
END:VCALENDAR